BEGIN:VCALENDAR
VERSION:2.0
PRODID:-//Kelsey-Seybold Clinic - Careers - ECPv6.15.15//NONSGML v1.0//EN
CALSCALE:GREGORIAN
METHOD:PUBLISH
X-ORIGINAL-URL:https://kelseyseyboldcareers.com
X-WR-CALDESC:Events for Kelsey-Seybold Clinic - Careers
REFRESH-INTERVAL;VALUE=DURATION:PT1H
X-Robots-Tag:noindex
X-PUBLISHED-TTL:PT1H
BEGIN:VTIMEZONE
TZID:America/Chicago
BEGIN:DAYLIGHT
TZOFFSETFROM:-0600
TZOFFSETTO:-0500
TZNAME:CDT
DTSTART:20240310T080000
END:DAYLIGHT
BEGIN:STANDARD
TZOFFSETFROM:-0500
TZOFFSETTO:-0600
TZNAME:CST
DTSTART:20241103T070000
END:STANDARD
BEGIN:DAYLIGHT
TZOFFSETFROM:-0600
TZOFFSETTO:-0500
TZNAME:CDT
DTSTART:20250309T080000
END:DAYLIGHT
BEGIN:STANDARD
TZOFFSETFROM:-0500
TZOFFSETTO:-0600
TZNAME:CST
DTSTART:20251102T070000
END:STANDARD
BEGIN:DAYLIGHT
TZOFFSETFROM:-0600
TZOFFSETTO:-0500
TZNAME:CDT
DTSTART:20260308T080000
END:DAYLIGHT
BEGIN:STANDARD
TZOFFSETFROM:-0500
TZOFFSETTO:-0600
TZNAME:CST
DTSTART:20261101T070000
END:STANDARD
END:VTIMEZONE
BEGIN:VTIMEZONE
TZID:America/New_York
BEGIN:DAYLIGHT
TZOFFSETFROM:-0500
TZOFFSETTO:-0400
TZNAME:EDT
DTSTART:20240310T070000
END:DAYLIGHT
BEGIN:STANDARD
TZOFFSETFROM:-0400
TZOFFSETTO:-0500
TZNAME:EST
DTSTART:20241103T060000
END:STANDARD
BEGIN:DAYLIGHT
TZOFFSETFROM:-0500
TZOFFSETTO:-0400
TZNAME:EDT
DTSTART:20250309T070000
END:DAYLIGHT
BEGIN:STANDARD
TZOFFSETFROM:-0400
TZOFFSETTO:-0500
TZNAME:EST
DTSTART:20251102T060000
END:STANDARD
BEGIN:DAYLIGHT
TZOFFSETFROM:-0500
TZOFFSETTO:-0400
TZNAME:EDT
DTSTART:20260308T070000
END:DAYLIGHT
BEGIN:STANDARD
TZOFFSETFROM:-0400
TZOFFSETTO:-0500
TZNAME:EST
DTSTART:20261101T060000
END:STANDARD
END:VTIMEZONE
BEGIN:VEVENT
DTSTART;TZID=America/Chicago:20250205T150000
DTEND;TZID=America/Chicago:20250205T180000
DTSTAMP:20260422T071831
CREATED:20250122T212142Z
LAST-MODIFIED:20250122T212142Z
UID:12646-1738767600-1738778400@kelseyseyboldcareers.com
SUMMARY:LVN Interview Day - Berthelsen Main Campus
DESCRIPTION:Interviewing experienced LVNs I/II/III for multiple specialty areas. \n$2\,500 Sign-on Bonus! \n\nInternal Medicine\nGastroenterology\nGeneral Surgery\nENT\nPain Management\nPulmonary\nExecutive Assessment\nCardiology\nClinic Administration\n\nRequirements include Texas state licensure and BCLS with 6+ months of experience. \nTo be scheduled for an interview\, send a resume to:\nOlivia.Handy@kelsey-seybold.com\nOnly selected candidates will be contacted by the recruiter.
URL:https://kelseyseyboldcareers.com/event/lvn-interview-day-berthelsen-main-campus/
LOCATION:Berthelsen Main Campus\, 2727 W Holcombe Blvd\, Houston\, TX\, 77025\, United States
END:VEVENT
BEGIN:VEVENT
DTSTART;TZID=America/Chicago:20250205T150000
DTEND;TZID=America/Chicago:20250205T180000
DTSTAMP:20260422T071831
CREATED:20250122T212142Z
LAST-MODIFIED:20250122T212142Z
UID:12646-1738767600-1738778400@kelseyseyboldcareers.com
SUMMARY:LVN Interview Day - Berthelsen Main Campus
DESCRIPTION:Interviewing experienced LVNs I/II/III for multiple specialty areas. \n$2\,500 Sign-on Bonus! \n\nInternal Medicine\nGastroenterology\nGeneral Surgery\nENT\nPain Management\nPulmonary\nExecutive Assessment\nCardiology\nClinic Administration\n\nRequirements include Texas state licensure and BCLS with 6+ months of experience. \nTo be scheduled for an interview\, send a resume to:\nOlivia.Handy@kelsey-seybold.com\nOnly selected candidates will be contacted by the recruiter.
URL:https://kelseyseyboldcareers.com/event/lvn-interview-day-berthelsen-main-campus/
LOCATION:Berthelsen Main Campus\, 2727 W Holcombe Blvd\, Houston\, TX\, 77025\, United States
END:VEVENT
BEGIN:VEVENT
DTSTART;TZID=America/New_York:20250206T150000
DTEND;TZID=America/New_York:20250206T180000
DTSTAMP:20260422T071831
CREATED:20250122T230259Z
LAST-MODIFIED:20250122T230259Z
UID:12648-1738854000-1738864800@kelseyseyboldcareers.com
SUMMARY:LVN Interview Day - Berthelsen Main Campus
DESCRIPTION:Interviewing experienced LVNs I/II/III\nfor multiple specialty areas. \n$2\,500 Sign-on Bonus! \n\nInternal Medicine\nGastroenterology\nGeneral Surgery\nENT\nPain Management\nPulmonary\nExecutive Assessment\nCardiology\nClinic Administration\n\nRequirements include Texas state licensure and BCLS with 6+ months of experience. \nTo be scheduled for an interview\, send a resume to:\nOlivia.Handy@kelsey-seybold.com\nOnly selected candidates will be contacted by the recruiter.
URL:https://kelseyseyboldcareers.com/event/lvn-interview-day-berthelsen-main-campus-2/
LOCATION:Berthelsen Main Campus\, 2727 W Holcombe Blvd\, Houston\, TX\, 77025\, United States
END:VEVENT
END:VCALENDAR