BEGIN:VCALENDAR
VERSION:2.0
PRODID:-//Kelsey-Seybold Clinic - Careers - ECPv6.15.15//NONSGML v1.0//EN
CALSCALE:GREGORIAN
METHOD:PUBLISH
X-WR-CALNAME:Kelsey-Seybold Clinic - Careers
X-ORIGINAL-URL:https://kelseyseyboldcareers.com
X-WR-CALDESC:Events for Kelsey-Seybold Clinic - Careers
REFRESH-INTERVAL;VALUE=DURATION:PT1H
X-Robots-Tag:noindex
X-PUBLISHED-TTL:PT1H
BEGIN:VTIMEZONE
TZID:America/Chicago
BEGIN:DAYLIGHT
TZOFFSETFROM:-0600
TZOFFSETTO:-0500
TZNAME:CDT
DTSTART:20220313T080000
END:DAYLIGHT
BEGIN:STANDARD
TZOFFSETFROM:-0500
TZOFFSETTO:-0600
TZNAME:CST
DTSTART:20221106T070000
END:STANDARD
BEGIN:DAYLIGHT
TZOFFSETFROM:-0600
TZOFFSETTO:-0500
TZNAME:CDT
DTSTART:20230312T080000
END:DAYLIGHT
BEGIN:STANDARD
TZOFFSETFROM:-0500
TZOFFSETTO:-0600
TZNAME:CST
DTSTART:20231105T070000
END:STANDARD
BEGIN:DAYLIGHT
TZOFFSETFROM:-0600
TZOFFSETTO:-0500
TZNAME:CDT
DTSTART:20240310T080000
END:DAYLIGHT
BEGIN:STANDARD
TZOFFSETFROM:-0500
TZOFFSETTO:-0600
TZNAME:CST
DTSTART:20241103T070000
END:STANDARD
END:VTIMEZONE
BEGIN:VEVENT
DTSTART;TZID=America/Chicago:20231004T110000
DTEND;TZID=America/Chicago:20231004T150000
DTSTAMP:20260423T044507
CREATED:20230925T144706Z
LAST-MODIFIED:20230925T144706Z
UID:8649-1696417200-1696431600@kelseyseyboldcareers.com
SUMMARY:Medical Assistant and Dermatology Tech Interview Day
DESCRIPTION:Interviewing qualified candidates for open pool positions: \n• Sr. Dermatology Technician\n3 years of directly related experience as a Medical Assistant or\ncompletion of an externship at Kelsey-Seybold within 6 months\nexperience for MAs or CMAs hired before and active as of November\n1\, 2015\, with no breaks of services. 1 year of experience related to a\ndepartment or specialty. \n• Dermatology Technician\nHigh school diploma/GED from an accredited program and graduate\nfrom an accredited Medical Assistant program or school. \n• Medical Assistant/RMA/CMA – OB/GYN\nRequires a high school diploma/GED from an accredited program\nand graduate from an accredited Medical Assistant program\, plus 6\nmonths of experience. \nTo be scheduled for an interview\, send a resume to:\nMarissa.Meza@kelsey-seybold.com\nOnly selected candidates will be contacted by the recruiter.
URL:https://kelseyseyboldcareers.com/event/medical-assistant-and-dermatology-tech-interview-day/
LOCATION:Kingwood Clinic\, 25553 U.S. Highway 59\, Porter\, TX\, 77365
ATTACH;FMTTYPE=image/jpeg:https://kelseyseyboldcareers.com/wp-content/uploads/2023/09/GettyImages-1368551579.jpg
ORGANIZER;CN="Marissa Meza":MAILTO:Marissa.Meza@kelsey-seybold.com
END:VEVENT
END:VCALENDAR