BEGIN:VCALENDAR
VERSION:2.0
PRODID:-//Kelsey-Seybold Clinic - Careers - ECPv6.15.15//NONSGML v1.0//EN
CALSCALE:GREGORIAN
METHOD:PUBLISH
X-WR-CALNAME:Kelsey-Seybold Clinic - Careers
X-ORIGINAL-URL:https://kelseyseyboldcareers.com
X-WR-CALDESC:Events for Kelsey-Seybold Clinic - Careers
REFRESH-INTERVAL;VALUE=DURATION:PT1H
X-Robots-Tag:noindex
X-PUBLISHED-TTL:PT1H
BEGIN:VTIMEZONE
TZID:America/Chicago
BEGIN:DAYLIGHT
TZOFFSETFROM:-0600
TZOFFSETTO:-0500
TZNAME:CDT
DTSTART:20220313T080000
END:DAYLIGHT
BEGIN:STANDARD
TZOFFSETFROM:-0500
TZOFFSETTO:-0600
TZNAME:CST
DTSTART:20221106T070000
END:STANDARD
BEGIN:DAYLIGHT
TZOFFSETFROM:-0600
TZOFFSETTO:-0500
TZNAME:CDT
DTSTART:20230312T080000
END:DAYLIGHT
BEGIN:STANDARD
TZOFFSETFROM:-0500
TZOFFSETTO:-0600
TZNAME:CST
DTSTART:20231105T070000
END:STANDARD
BEGIN:DAYLIGHT
TZOFFSETFROM:-0600
TZOFFSETTO:-0500
TZNAME:CDT
DTSTART:20240310T080000
END:DAYLIGHT
BEGIN:STANDARD
TZOFFSETFROM:-0500
TZOFFSETTO:-0600
TZNAME:CST
DTSTART:20241103T070000
END:STANDARD
END:VTIMEZONE
BEGIN:VEVENT
DTSTART;TZID=America/Chicago:20230127T100000
DTEND;TZID=America/Chicago:20230127T160000
DTSTAMP:20260419T103218
CREATED:20230118T032645Z
LAST-MODIFIED:20230118T185457Z
UID:4624-1674813600-1674835200@kelseyseyboldcareers.com
SUMMARY:Contact/Call Center Hiring Event - College Station\, TX
DESCRIPTION:Join Us! \nEmbassy Suites by Hilton  \nReveille Ballrooms II & III \n  \nInterviewing for full-time Healthcare Services Representatives \nRequires: \nA high school diploma/GED \n1 year of customer service \nExcellent customer service and phone etiquette \nAbility to attend a 5-week\, full-time in-person training program \nWhy Kelsey-Seybold Clinic? \n\nSalary $16.61 – $19.54 per hour\nFlexible scheduling\nBilingual salary differential\nInsurance benefits package\nPaid time off\n401k Plan\n\nRegister today! https://intsignup.indeed.com/interview/66f543fa-5341-45c5-825f-703fd2597511?from=ihe_activation_email
URL:https://kelseyseyboldcareers.com/event/contact-call-center-hiring-event-college-station-tx/
LOCATION:201 University Dr. East College Station\, TX 77840\, 201 University Dr. East\, College Station\, TX\, 78040\, United States
CATEGORIES:Hiring Event
ATTACH;FMTTYPE=image/jpeg:https://kelseyseyboldcareers.com/wp-content/uploads/2023/01/Contact-Center-Hiring-Ad2.jpg
END:VEVENT
END:VCALENDAR